BEGIN:VCALENDAR
VERSION:2.0
PRODID:GIGPRESS 2.0 WORDPRESS PLUGIN
CALSCALE:GREGORIAN
X-WR-TIMEZONE:Etc/GMT
METHOD:PUBLISH
BEGIN:VTIMEZONE
TZID:GMT
BEGIN:STANDARD
DTSTART:20071028T010000
TZOFFSETTO:+0000
TZOFFSETFROM:+0000
END:STANDARD
END:VTIMEZONE
BEGIN:VEVENT
SUMMARY:van Rijn's à Paris Expo Porte de Versailles
DESCRIPTION:Notes: Hall 1 allée B Stand 19 
LOCATION:Paris Expo Porte de Versailles\, Paris\, FR
UID:20260430-57-vanrijns@vanrijns.be
URL:http://www.vanrijns.be/nos-prochains-evenements/
DTSTART;VALUE=DATE;TZID=GMT:20260430
DTEND;VALUE=DATE;TZID=GMT:20260512
DTSTAMP:20260420T124716Z
END:VEVENT
END:VCALENDAR